BEGIN:VCALENDAR
VERSION:2.0
PRODID:-//spbstu.ru//ical//RU
NAME:Расписание
X-WR-CALNAME:Расписание
TIMEZONE-ID:Europe/Moscow
X-WR-TIMEZONE:Europe/Moscow
BEGIN:VEVENT
UID:5fog@192.168.245.71:3006
SEQUENCE:0
DTSTAMP:20260422T034418Z
DTSTART:20260304T110000Z
DTEND:20260304T124000Z
SUMMARY:Экономика строительства
LOCATION:ГК-2 407
END:VEVENT
BEGIN:VEVENT
UID:7tlf@192.168.245.71:3006
SEQUENCE:0
DTSTAMP:20260422T034418Z
DTSTART:20260304T130000Z
DTEND:20260304T144000Z
SUMMARY:Экономика строительства
LOCATION:ГК-2 310
END:VEVENT
BEGIN:VEVENT
UID:7qkc@192.168.245.71:3006
SEQUENCE:0
DTSTAMP:20260422T034418Z
DTSTART:20260306T090000Z
DTEND:20260306T104000Z
SUMMARY:Экономика строительства
LOCATION:ГК-2 310
END:VEVENT
BEGIN:VEVENT
UID:kn2x@192.168.245.71:3006
SEQUENCE:0
DTSTAMP:20260422T034418Z
DTSTART:20260306T110000Z
DTEND:20260306T124000Z
SUMMARY:Экономика строительства
LOCATION:ГК-2 310
END:VEVENT
END:VCALENDAR