BEGIN:VCALENDAR
VERSION:2.0
PRODID:-//spbstu.ru//ical//RU
NAME:Расписание
X-WR-CALNAME:Расписание
TIMEZONE-ID:Europe/Moscow
X-WR-TIMEZONE:Europe/Moscow
BEGIN:VEVENT
UID:74f4@192.168.245.71:3006
SEQUENCE:0
DTSTAMP:20260421T110149Z
DTSTART:20260429T130000Z
DTEND:20260429T144000Z
SUMMARY:Экономика строительства
LOCATION:ГК-2 310
END:VEVENT
END:VCALENDAR