BEGIN:VCALENDAR
VERSION:2.0
PRODID:-//spbstu.ru//ical//RU
NAME:Расписание
X-WR-CALNAME:Расписание
TIMEZONE-ID:Europe/Moscow
X-WR-TIMEZONE:Europe/Moscow
BEGIN:VEVENT
UID:wncu@192.168.245.71:3006
SEQUENCE:0
DTSTAMP:20260421T122827Z
DTSTART:20260505T070000Z
DTEND:20260505T084000Z
SUMMARY:Экономика строительства
LOCATION:ГК-2 504
END:VEVENT
BEGIN:VEVENT
UID:1lc5@192.168.245.71:3006
SEQUENCE:0
DTSTAMP:20260421T122827Z
DTSTART:20260507T090000Z
DTEND:20260507T104000Z
SUMMARY:Экономика строительства
LOCATION:ГК-2 407
END:VEVENT
END:VCALENDAR