BEGIN:VCALENDAR
VERSION:2.0
PRODID:-//spbstu.ru//ical//RU
NAME:Расписание
X-WR-CALNAME:Расписание
TIMEZONE-ID:Europe/Moscow
X-WR-TIMEZONE:Europe/Moscow
BEGIN:VEVENT
UID:sg2d@192.168.245.71:3006
SEQUENCE:0
DTSTAMP:20260426T041807Z
DTSTART:20250908T090000Z
DTEND:20250908T104000Z
SUMMARY:История России
LOCATION:9 к. 514
END:VEVENT
BEGIN:VEVENT
UID:omiq@192.168.245.71:3006
SEQUENCE:0
DTSTAMP:20260426T041807Z
DTSTART:20250909T090000Z
DTEND:20250909T104000Z
SUMMARY:История России
LOCATION:9 к. 535
END:VEVENT
BEGIN:VEVENT
UID:m4s5@192.168.245.71:3006
SEQUENCE:0
DTSTAMP:20260426T041807Z
DTSTART:20250909T110000Z
DTEND:20250909T124000Z
SUMMARY:История России
LOCATION:9 к. 535
END:VEVENT
BEGIN:VEVENT
UID:a67k@192.168.245.71:3006
SEQUENCE:0
DTSTAMP:20260426T041807Z
DTSTART:20250909T130000Z
DTEND:20250909T144000Z
SUMMARY:История России
LOCATION:9 к. 535
END:VEVENT
BEGIN:VEVENT
UID:fj91@192.168.245.71:3006
SEQUENCE:0
DTSTAMP:20260426T041807Z
DTSTART:20250910T090000Z
DTEND:20250910T104000Z
SUMMARY:История России
LOCATION:9 к. 325
END:VEVENT
BEGIN:VEVENT
UID:7to1@192.168.245.71:3006
SEQUENCE:0
DTSTAMP:20260426T041807Z
DTSTART:20250912T090000Z
DTEND:20250912T104000Z
SUMMARY:История России
LOCATION:9 к. 417
END:VEVENT
BEGIN:VEVENT
UID:epcv@192.168.245.71:3006
SEQUENCE:0
DTSTAMP:20260426T041807Z
DTSTART:20250912T110000Z
DTEND:20250912T124000Z
SUMMARY:История России
LOCATION:9 к. 417
END:VEVENT
END:VCALENDAR