BEGIN:VCALENDAR
VERSION:2.0
PRODID:-//spbstu.ru//ical//RU
NAME:Расписание
X-WR-CALNAME:Расписание
TIMEZONE-ID:Europe/Moscow
X-WR-TIMEZONE:Europe/Moscow
BEGIN:VEVENT
UID:l9ub@192.168.245.71:3006
SEQUENCE:0
DTSTAMP:20260421T004621Z
DTSTART:20260413T090000Z
DTEND:20260413T104000Z
SUMMARY:История России
LOCATION:9 к. 221
END:VEVENT
BEGIN:VEVENT
UID:67gb@192.168.245.71:3006
SEQUENCE:0
DTSTAMP:20260421T004621Z
DTSTART:20260413T110000Z
DTEND:20260413T124000Z
SUMMARY:История России
LOCATION:9 к. 221
END:VEVENT
BEGIN:VEVENT
UID:lfqo@192.168.245.71:3006
SEQUENCE:0
DTSTAMP:20260421T004621Z
DTSTART:20260413T130000Z
DTEND:20260413T144000Z
SUMMARY:История России
LOCATION:9 к. 221
END:VEVENT
BEGIN:VEVENT
UID:5czx@192.168.245.71:3006
SEQUENCE:0
DTSTAMP:20260421T004621Z
DTSTART:20260415T070000Z
DTEND:20260415T084000Z
SUMMARY:История России
LOCATION:3 к. 215
END:VEVENT
BEGIN:VEVENT
UID:7hl5@192.168.245.71:3006
SEQUENCE:0
DTSTAMP:20260421T004621Z
DTSTART:20260418T070000Z
DTEND:20260418T084000Z
SUMMARY:История России
LOCATION:ГЗ 305
END:VEVENT
END:VCALENDAR