BEGIN:VCALENDAR
VERSION:2.0
PRODID:-//spbstu.ru//ical//RU
NAME:Расписание
X-WR-CALNAME:Расписание
TIMEZONE-ID:Europe/Moscow
X-WR-TIMEZONE:Europe/Moscow
BEGIN:VEVENT
UID:6nt3@192.168.245.71:3006
SEQUENCE:0
DTSTAMP:20260421T081131Z
DTSTART:20260529T070000Z
DTEND:20260529T100000Z
SUMMARY:История России
LOCATION:9 к. 212
END:VEVENT
BEGIN:VEVENT
UID:3w44@192.168.245.71:3006
SEQUENCE:0
DTSTAMP:20260421T081131Z
DTSTART:20260529T110000Z
DTEND:20260529T140000Z
SUMMARY:История России
LOCATION:9 к. 212
END:VEVENT
END:VCALENDAR