BEGIN:VCALENDAR
VERSION:2.0
PRODID:-//spbstu.ru//ical//RU
NAME:Расписание
X-WR-CALNAME:Расписание
TIMEZONE-ID:Europe/Moscow
X-WR-TIMEZONE:Europe/Moscow
BEGIN:VEVENT
UID:jj2j@192.168.245.71:3006
SEQUENCE:0
DTSTAMP:20260421T112422Z
DTSTART:20260601T090000Z
DTEND:20260601T123000Z
SUMMARY:История России
LOCATION:9 к. 325
END:VEVENT
BEGIN:VEVENT
UID:vjr7@192.168.245.71:3006
SEQUENCE:0
DTSTAMP:20260421T112422Z
DTSTART:20260602T070000Z
DTEND:20260602T100000Z
SUMMARY:История России
LOCATION:9 к. 325
END:VEVENT
BEGIN:VEVENT
UID:k9bw@192.168.245.71:3006
SEQUENCE:0
DTSTAMP:20260421T112422Z
DTSTART:20260602T103000Z
DTEND:20260602T133000Z
SUMMARY:История России
LOCATION:9 к. 325
END:VEVENT
BEGIN:VEVENT
UID:9ncx@192.168.245.71:3006
SEQUENCE:0
DTSTAMP:20260421T112422Z
DTSTART:20260603T070000Z
DTEND:20260603T100000Z
SUMMARY:История России
LOCATION:9 к. 325
END:VEVENT
BEGIN:VEVENT
UID:p4ga@192.168.245.71:3006
SEQUENCE:0
DTSTAMP:20260421T112422Z
DTSTART:20260603T103000Z
DTEND:20260603T133000Z
SUMMARY:История России
LOCATION:9 к. 325
END:VEVENT
END:VCALENDAR