BEGIN:VCALENDAR
VERSION:2.0
PRODID:-//spbstu.ru//ical//RU
NAME:Расписание
X-WR-CALNAME:Расписание
TIMEZONE-ID:Europe/Moscow
X-WR-TIMEZONE:Europe/Moscow
BEGIN:VEVENT
UID:xgee@192.168.245.71:3006
SEQUENCE:0
DTSTAMP:20260421T114657Z
DTSTART:20260217T130000Z
DTEND:20260217T144000Z
SUMMARY:Иностранный язык: Базовый курс
LOCATION:2 к. 352
END:VEVENT
BEGIN:VEVENT
UID:7ytd@192.168.245.71:3006
SEQUENCE:0
DTSTAMP:20260421T114657Z
DTSTART:20260217T150000Z
DTEND:20260217T164000Z
SUMMARY:Иностранный язык: Базовый курс
LOCATION:3 к. 503
END:VEVENT
BEGIN:VEVENT
UID:1hpq@192.168.245.71:3006
SEQUENCE:0
DTSTAMP:20260421T114657Z
DTSTART:20260217T150000Z
DTEND:20260217T164000Z
SUMMARY:Иностранный язык: Базовый курс
LOCATION:3 к. 503
END:VEVENT
BEGIN:VEVENT
UID:ci3a@192.168.245.71:3006
SEQUENCE:0
DTSTAMP:20260421T114657Z
DTSTART:20260218T090000Z
DTEND:20260218T104000Z
SUMMARY:Иностранный язык: Базовый курс
LOCATION:3 к. 207
END:VEVENT
BEGIN:VEVENT
UID:1j0i@192.168.245.71:3006
SEQUENCE:0
DTSTAMP:20260421T114657Z
DTSTART:20260218T130000Z
DTEND:20260218T144000Z
SUMMARY:Иностранный язык. Профессионально-ориентированный курс
LOCATION:ГЗ 230
END:VEVENT
BEGIN:VEVENT
UID:i7qu@192.168.245.71:3006
SEQUENCE:0
DTSTAMP:20260421T114657Z
DTSTART:20260220T153000Z
DTEND:20260220T171000Z
SUMMARY:Иностранный язык. Профессионально-ориентированный курс
LOCATION:ГК 229
END:VEVENT
BEGIN:VEVENT
UID:j5ev@192.168.245.71:3006
SEQUENCE:0
DTSTAMP:20260421T114657Z
DTSTART:20260221T090000Z
DTEND:20260221T104000Z
SUMMARY:Иностранный язык. Профессионально-ориентированный курс
LOCATION:ГК 230
END:VEVENT
BEGIN:VEVENT
UID:hxp6@192.168.245.71:3006
SEQUENCE:0
DTSTAMP:20260421T114657Z
DTSTART:20260221T110000Z
DTEND:20260221T124000Z
SUMMARY:Иностранный язык: Базовый курс
LOCATION:ГЗ 108
END:VEVENT
END:VCALENDAR