BEGIN:VCALENDAR
VERSION:2.0
PRODID:-//spbstu.ru//ical//RU
NAME:Расписание
X-WR-CALNAME:Расписание
TIMEZONE-ID:Europe/Moscow
X-WR-TIMEZONE:Europe/Moscow
BEGIN:VEVENT
UID:o0h1@192.168.245.71:3006
SEQUENCE:0
DTSTAMP:20260421T233957Z
DTSTART:20260225T110000Z
DTEND:20260225T124000Z
SUMMARY:Системы программирования
LOCATION:3 к. 107
END:VEVENT
BEGIN:VEVENT
UID:rz8j@192.168.245.71:3006
SEQUENCE:0
DTSTAMP:20260421T233957Z
DTSTART:20260225T130000Z
DTEND:20260225T144000Z
SUMMARY:Системы программирования
LOCATION:3 к. 102
END:VEVENT
BEGIN:VEVENT
UID:irkc@192.168.245.71:3006
SEQUENCE:0
DTSTAMP:20260421T233957Z
DTSTART:20260227T090000Z
DTEND:20260227T104000Z
SUMMARY:Системы программирования
LOCATION:3 к. 107
END:VEVENT
BEGIN:VEVENT
UID:49ca@192.168.245.71:3006
SEQUENCE:0
DTSTAMP:20260421T233957Z
DTSTART:20260227T110000Z
DTEND:20260227T124000Z
SUMMARY:Системы программирования
LOCATION:3 к. 201
END:VEVENT
BEGIN:VEVENT
UID:58k5@192.168.245.71:3006
SEQUENCE:0
DTSTAMP:20260421T233957Z
DTSTART:20260227T130000Z
DTEND:20260227T144000Z
SUMMARY:Системы программирования
LOCATION:3 к. 105
END:VEVENT
END:VCALENDAR