BEGIN:VCALENDAR
VERSION:2.0
PRODID:-//spbstu.ru//ical//RU
NAME:Расписание
X-WR-CALNAME:Расписание
TIMEZONE-ID:Europe/Moscow
X-WR-TIMEZONE:Europe/Moscow
BEGIN:VEVENT
UID:8fh4@192.168.245.71:3006
SEQUENCE:0
DTSTAMP:20260421T150420Z
DTSTART:20260325T110000Z
DTEND:20260325T124000Z
SUMMARY:Системы программирования
LOCATION:3 к. 107
END:VEVENT
BEGIN:VEVENT
UID:y97v@192.168.245.71:3006
SEQUENCE:0
DTSTAMP:20260421T150420Z
DTSTART:20260325T130000Z
DTEND:20260325T144000Z
SUMMARY:Системы программирования
LOCATION:3 к. 102
END:VEVENT
BEGIN:VEVENT
UID:ss7u@192.168.245.71:3006
SEQUENCE:0
DTSTAMP:20260421T150420Z
DTSTART:20260327T090000Z
DTEND:20260327T104000Z
SUMMARY:Системы программирования
LOCATION:3 к. 107
END:VEVENT
BEGIN:VEVENT
UID:ctud@192.168.245.71:3006
SEQUENCE:0
DTSTAMP:20260421T150420Z
DTSTART:20260327T110000Z
DTEND:20260327T124000Z
SUMMARY:Системы программирования
LOCATION:3 к. 201
END:VEVENT
BEGIN:VEVENT
UID:vi8n@192.168.245.71:3006
SEQUENCE:0
DTSTAMP:20260421T150420Z
DTSTART:20260327T130000Z
DTEND:20260327T144000Z
SUMMARY:Системы программирования
LOCATION:3 к. 105
END:VEVENT
END:VCALENDAR