BEGIN:VCALENDAR
VERSION:2.0
PRODID:-//spbstu.ru//ical//RU
NAME:Расписание
X-WR-CALNAME:Расписание
TIMEZONE-ID:Europe/Moscow
X-WR-TIMEZONE:Europe/Moscow
BEGIN:VEVENT
UID:fgnf@192.168.245.71:3006
SEQUENCE:0
DTSTAMP:20260424T153831Z
DTSTART:20251208T050000Z
DTEND:20251208T064000Z
SUMMARY:Лабораторный практикум по космическим исследованиям
LOCATION:2 к. каф. КИ
END:VEVENT
BEGIN:VEVENT
UID:hhzi@192.168.245.71:3006
SEQUENCE:0
DTSTAMP:20260424T153831Z
DTSTART:20251208T070000Z
DTEND:20251208T084000Z
SUMMARY:Лабораторный практикум по космическим исследованиям
LOCATION:2 к. каф. КИ
END:VEVENT
BEGIN:VEVENT
UID:m057@192.168.245.71:3006
SEQUENCE:0
DTSTAMP:20260424T153831Z
DTSTART:20251208T090000Z
DTEND:20251208T104000Z
SUMMARY:Лабораторный практикум по космическим исследованиям
LOCATION:2 к. каф. КИ
END:VEVENT
BEGIN:VEVENT
UID:zdge@192.168.245.71:3006
SEQUENCE:0
DTSTAMP:20260424T153831Z
DTSTART:20251208T110000Z
DTEND:20251208T124000Z
SUMMARY:Информатика
LOCATION:2 к. 104
END:VEVENT
BEGIN:VEVENT
UID:15zl@192.168.245.71:3006
SEQUENCE:0
DTSTAMP:20260424T153831Z
DTSTART:20251210T080000Z
DTEND:20251210T085000Z
SUMMARY:Специальный практикум
LOCATION:2 к. каф. КИ
END:VEVENT
BEGIN:VEVENT
UID:7t9c@192.168.245.71:3006
SEQUENCE:0
DTSTAMP:20260424T153831Z
DTSTART:20251210T090000Z
DTEND:20251210T104000Z
SUMMARY:Специальный практикум
LOCATION:2 к. 104
END:VEVENT
BEGIN:VEVENT
UID:fwnu@192.168.245.71:3006
SEQUENCE:0
DTSTAMP:20260424T153831Z
DTSTART:20251211T090000Z
DTEND:20251211T104000Z
SUMMARY:Семинар по современным проблемам астрофизики (на английском языке)
LOCATION:2 к. каф. КИ
END:VEVENT
BEGIN:VEVENT
UID:8p5f@192.168.245.71:3006
SEQUENCE:0
DTSTAMP:20260424T153831Z
DTSTART:20251211T110000Z
DTEND:20251211T115000Z
SUMMARY:Семинар по современным проблемам астрофизики (на английском языке)
LOCATION:2 к. каф. КИ
END:VEVENT
END:VCALENDAR