BEGIN:VCALENDAR
VERSION:2.0
PRODID:-//spbstu.ru//ical//RU
NAME:Расписание
X-WR-CALNAME:Расписание
TIMEZONE-ID:Europe/Moscow
X-WR-TIMEZONE:Europe/Moscow
BEGIN:VEVENT
UID:tztw@192.168.245.71:3006
SEQUENCE:0
DTSTAMP:20260423T073335Z
DTSTART:20260124T070000Z
DTEND:20260124T103000Z
SUMMARY:Информатика
LOCATION:2 к. 104
END:VEVENT
END:VCALENDAR