BEGIN:VCALENDAR
VERSION:2.0
PRODID:-//spbstu.ru//ical//RU
NAME:Расписание
X-WR-CALNAME:Расписание
TIMEZONE-ID:Europe/Moscow
X-WR-TIMEZONE:Europe/Moscow
BEGIN:VEVENT
UID:ammt@192.168.245.71:3006
SEQUENCE:0
DTSTAMP:20260421T101217Z
DTSTART:20260323T110000Z
DTEND:20260323T124000Z
SUMMARY:Семинар по современным проблемам астрофизики (на английском языке)
LOCATION:2 к. каф. КИ
END:VEVENT
BEGIN:VEVENT
UID:qsne@192.168.245.71:3006
SEQUENCE:0
DTSTAMP:20260421T101217Z
DTSTART:20260323T130000Z
DTEND:20260323T135000Z
SUMMARY:Семинар по современным проблемам астрофизики (на английском языке)
LOCATION:2 к. каф. КИ
END:VEVENT
BEGIN:VEVENT
UID:3ycn@192.168.245.71:3006
SEQUENCE:0
DTSTAMP:20260421T101217Z
DTSTART:20260324T090000Z
DTEND:20260324T104000Z
SUMMARY:Численные методы
LOCATION:2 к. 104
END:VEVENT
BEGIN:VEVENT
UID:6je4@192.168.245.71:3006
SEQUENCE:0
DTSTAMP:20260421T101217Z
DTSTART:20260324T090000Z
DTEND:20260324T104000Z
SUMMARY:Численные методы
LOCATION:2 к. 104
END:VEVENT
BEGIN:VEVENT
UID:vcqy@192.168.245.71:3006
SEQUENCE:0
DTSTAMP:20260421T101217Z
DTSTART:20260325T110000Z
DTEND:20260325T124000Z
SUMMARY:Информатика
LOCATION:2 к. 104
END:VEVENT
BEGIN:VEVENT
UID:rb02@192.168.245.71:3006
SEQUENCE:0
DTSTAMP:20260421T101217Z
DTSTART:20260326T090000Z
DTEND:20260326T104000Z
SUMMARY:Статистический анализ астрономических данных
LOCATION:2 к. каф. КИ
END:VEVENT
BEGIN:VEVENT
UID:0ohl@192.168.245.71:3006
SEQUENCE:0
DTSTAMP:20260421T101217Z
DTSTART:20260326T110000Z
DTEND:20260326T124000Z
SUMMARY:Лабораторный практикум по космическим исследованиям
LOCATION:2 к. каф. КИ
END:VEVENT
BEGIN:VEVENT
UID:e8gu@192.168.245.71:3006
SEQUENCE:0
DTSTAMP:20260421T101217Z
DTSTART:20260326T130000Z
DTEND:20260326T144000Z
SUMMARY:Лабораторный практикум по космическим исследованиям
LOCATION:2 к. каф. КИ
END:VEVENT
BEGIN:VEVENT
UID:g2rx@192.168.245.71:3006
SEQUENCE:0
DTSTAMP:20260421T101217Z
DTSTART:20260327T110000Z
DTEND:20260327T124000Z
SUMMARY:Информатика
LOCATION:2 к. 104
END:VEVENT
BEGIN:VEVENT
UID:g4j4@192.168.245.71:3006
SEQUENCE:0
DTSTAMP:20260421T101217Z
DTSTART:20260327T130000Z
DTEND:20260327T144000Z
SUMMARY:Информатика
LOCATION:2 к. 104
END:VEVENT
END:VCALENDAR