BEGIN:VCALENDAR
VERSION:2.0
PRODID:-//spbstu.ru//ical//RU
NAME:Расписание
X-WR-CALNAME:Расписание
TIMEZONE-ID:Europe/Moscow
X-WR-TIMEZONE:Europe/Moscow
BEGIN:VEVENT
UID:c8yr@192.168.245.71:3006
SEQUENCE:0
DTSTAMP:20260421T093714Z
DTSTART:20260518T070000Z
DTEND:20260518T130000Z
SUMMARY:Теория плазмы
LOCATION:2 к. 331
END:VEVENT
BEGIN:VEVENT
UID:9xzg@192.168.245.71:3006
SEQUENCE:0
DTSTAMP:20260421T093714Z
DTSTART:20260518T130000Z
DTEND:20260518T144000Z
SUMMARY:Лабораторный практикум по физике плазмы
LOCATION:2 к. каф. ФП
END:VEVENT
END:VCALENDAR