BEGIN:VCALENDAR
VERSION:2.0
PRODID:-//spbstu.ru//ical//RU
NAME:Расписание
X-WR-CALNAME:Расписание
TIMEZONE-ID:Europe/Moscow
X-WR-TIMEZONE:Europe/Moscow
BEGIN:VEVENT
UID:gkxy@192.168.245.71:3006
SEQUENCE:0
DTSTAMP:20260421T051345Z
DTSTART:20260413T070000Z
DTEND:20260413T084000Z
SUMMARY:Строительная механика
LOCATION:ГК-2 410
END:VEVENT
BEGIN:VEVENT
UID:oxvj@192.168.245.71:3006
SEQUENCE:0
DTSTAMP:20260421T051345Z
DTSTART:20260413T090000Z
DTEND:20260413T104000Z
SUMMARY:Строительная механика
LOCATION:ГК-2 410
END:VEVENT
BEGIN:VEVENT
UID:kfv1@192.168.245.71:3006
SEQUENCE:0
DTSTAMP:20260421T051345Z
DTSTART:20260414T070000Z
DTEND:20260414T084000Z
SUMMARY:Строительная механика
LOCATION:ГК-2 301а
END:VEVENT
BEGIN:VEVENT
UID:i9s9@192.168.245.71:3006
SEQUENCE:0
DTSTAMP:20260421T051345Z
DTSTART:20260414T090000Z
DTEND:20260414T104000Z
SUMMARY:Строительная механика
LOCATION:ГК-2 315
END:VEVENT
BEGIN:VEVENT
UID:eawt@192.168.245.71:3006
SEQUENCE:0
DTSTAMP:20260421T051345Z
DTSTART:20260414T110000Z
DTEND:20260414T124000Z
SUMMARY:Строительная механика
LOCATION:ГК-2 315
END:VEVENT
BEGIN:VEVENT
UID:vm3k@192.168.245.71:3006
SEQUENCE:0
DTSTAMP:20260421T051345Z
DTSTART:20260415T110000Z
DTEND:20260415T124000Z
SUMMARY:Строительная механика
LOCATION:ГК-2 508
END:VEVENT
END:VCALENDAR