BEGIN:VCALENDAR
VERSION:2.0
PRODID:-//spbstu.ru//ical//RU
NAME:Расписание
X-WR-CALNAME:Расписание
TIMEZONE-ID:Europe/Moscow
X-WR-TIMEZONE:Europe/Moscow
BEGIN:VEVENT
UID:81dv@192.168.245.71:3006
SEQUENCE:0
DTSTAMP:20260421T191836Z
DTSTART:20260604T070000Z
DTEND:20260604T084000Z
SUMMARY:Экологическая экспертиза в строительстве
LOCATION:ГК-2 401
END:VEVENT
BEGIN:VEVENT
UID:3f39@192.168.245.71:3006
SEQUENCE:0
DTSTAMP:20260421T191836Z
DTSTART:20260605T070000Z
DTEND:20260605T143000Z
SUMMARY:Экологическая экспертиза в строительстве
LOCATION:ГК-2 410
END:VEVENT
END:VCALENDAR