BEGIN:VCALENDAR
VERSION:2.0
PRODID:-//spbstu.ru//ical//RU
NAME:Расписание
X-WR-CALNAME:Расписание
TIMEZONE-ID:Europe/Moscow
X-WR-TIMEZONE:Europe/Moscow
BEGIN:VEVENT
UID:goc2@192.168.245.71:3006
SEQUENCE:0
DTSTAMP:20260422T224733Z
DTSTART:20260202T110000Z
DTEND:20260202T124000Z
SUMMARY:Основы математической физики
LOCATION:ГЗ 218
END:VEVENT
BEGIN:VEVENT
UID:i7qv@192.168.245.71:3006
SEQUENCE:0
DTSTAMP:20260422T224733Z
DTSTART:20260202T130000Z
DTEND:20260202T144000Z
SUMMARY:Основы математической физики
LOCATION:ГЗ 278
END:VEVENT
BEGIN:VEVENT
UID:ndgy@192.168.245.71:3006
SEQUENCE:0
DTSTAMP:20260422T224733Z
DTSTART:20260203T070000Z
DTEND:20260203T084000Z
SUMMARY:Основы математической физики
LOCATION:ГЗ 224
END:VEVENT
BEGIN:VEVENT
UID:dhrg@192.168.245.71:3006
SEQUENCE:0
DTSTAMP:20260422T224733Z
DTSTART:20260203T090000Z
DTEND:20260203T104000Z
SUMMARY:Основы математической физики
LOCATION:ГЗ 245
END:VEVENT
BEGIN:VEVENT
UID:7kcq@192.168.245.71:3006
SEQUENCE:0
DTSTAMP:20260422T224733Z
DTSTART:20260203T110000Z
DTEND:20260203T124000Z
SUMMARY:Основы математической физики
LOCATION:ГЗ 245
END:VEVENT
END:VCALENDAR