BEGIN:VCALENDAR
VERSION:2.0
PRODID:-//spbstu.ru//ical//RU
NAME:Расписание
X-WR-CALNAME:Расписание
TIMEZONE-ID:Europe/Moscow
X-WR-TIMEZONE:Europe/Moscow
BEGIN:VEVENT
UID:0k47@192.168.245.71:3006
SEQUENCE:0
DTSTAMP:20260422T110755Z
DTSTART:20260316T110000Z
DTEND:20260316T124000Z
SUMMARY:Основы математической физики
LOCATION:ГЗ 278
END:VEVENT
BEGIN:VEVENT
UID:mwtf@192.168.245.71:3006
SEQUENCE:0
DTSTAMP:20260422T110755Z
DTSTART:20260316T130000Z
DTEND:20260316T144000Z
SUMMARY:Основы математической физики
LOCATION:ГЗ 278
END:VEVENT
BEGIN:VEVENT
UID:gv15@192.168.245.71:3006
SEQUENCE:0
DTSTAMP:20260422T110755Z
DTSTART:20260317T070000Z
DTEND:20260317T084000Z
SUMMARY:Основы математической физики
LOCATION:ГЗ 224
END:VEVENT
BEGIN:VEVENT
UID:ycxo@192.168.245.71:3006
SEQUENCE:0
DTSTAMP:20260422T110755Z
DTSTART:20260317T090000Z
DTEND:20260317T104000Z
SUMMARY:Основы математической физики
LOCATION:ГЗ 245
END:VEVENT
BEGIN:VEVENT
UID:a7ql@192.168.245.71:3006
SEQUENCE:0
DTSTAMP:20260422T110755Z
DTSTART:20260317T110000Z
DTEND:20260317T124000Z
SUMMARY:Основы математической физики
LOCATION:ГЗ 245
END:VEVENT
END:VCALENDAR