BEGIN:VCALENDAR
VERSION:2.0
PRODID:-//spbstu.ru//ical//RU
NAME:Расписание
X-WR-CALNAME:Расписание
TIMEZONE-ID:Europe/Moscow
X-WR-TIMEZONE:Europe/Moscow
BEGIN:VEVENT
UID:hwuf@192.168.245.71:3006
SEQUENCE:0
DTSTAMP:20260421T083010Z
DTSTART:20260413T110000Z
DTEND:20260413T124000Z
SUMMARY:Основы математической физики
LOCATION:ГЗ 278
END:VEVENT
BEGIN:VEVENT
UID:1xij@192.168.245.71:3006
SEQUENCE:0
DTSTAMP:20260421T083010Z
DTSTART:20260413T130000Z
DTEND:20260413T144000Z
SUMMARY:Основы математической физики
LOCATION:ГЗ 278
END:VEVENT
BEGIN:VEVENT
UID:7d4p@192.168.245.71:3006
SEQUENCE:0
DTSTAMP:20260421T083010Z
DTSTART:20260414T070000Z
DTEND:20260414T084000Z
SUMMARY:Основы математической физики
LOCATION:ГЗ 224
END:VEVENT
BEGIN:VEVENT
UID:7ff8@192.168.245.71:3006
SEQUENCE:0
DTSTAMP:20260421T083010Z
DTSTART:20260414T090000Z
DTEND:20260414T104000Z
SUMMARY:Основы математической физики
LOCATION:ГЗ 245
END:VEVENT
BEGIN:VEVENT
UID:lb8t@192.168.245.71:3006
SEQUENCE:0
DTSTAMP:20260421T083010Z
DTSTART:20260414T110000Z
DTEND:20260414T124000Z
SUMMARY:Основы математической физики
LOCATION:ГЗ 245
END:VEVENT
END:VCALENDAR