BEGIN:VCALENDAR
VERSION:2.0
PRODID:-//spbstu.ru//ical//RU
NAME:Расписание
X-WR-CALNAME:Расписание
TIMEZONE-ID:Europe/Moscow
X-WR-TIMEZONE:Europe/Moscow
BEGIN:VEVENT
UID:fc25@192.168.245.71:3006
SEQUENCE:0
DTSTAMP:20260424T231634Z
DTSTART:20251215T070000Z
DTEND:20251215T084000Z
SUMMARY:Вычислительная механика
LOCATION:ГЗ 346-5
END:VEVENT
BEGIN:VEVENT
UID:qakt@192.168.245.71:3006
SEQUENCE:0
DTSTAMP:20260424T231634Z
DTSTART:20251215T090000Z
DTEND:20251215T104000Z
SUMMARY:Вычислительная механика
LOCATION:ГЗ 346-5
END:VEVENT
BEGIN:VEVENT
UID:auha@192.168.245.71:3006
SEQUENCE:0
DTSTAMP:20260424T231634Z
DTSTART:20251215T110000Z
DTEND:20251215T124000Z
SUMMARY:Вычислительная механика
LOCATION:ГЗ 346-5
END:VEVENT
BEGIN:VEVENT
UID:kwh5@192.168.245.71:3006
SEQUENCE:0
DTSTAMP:20260424T231634Z
DTSTART:20251216T050000Z
DTEND:20251216T064000Z
SUMMARY:Прикладная микромеханика
LOCATION:ГЗ 346-5
END:VEVENT
BEGIN:VEVENT
UID:lz3t@192.168.245.71:3006
SEQUENCE:0
DTSTAMP:20260424T231634Z
DTSTART:20251217T070000Z
DTEND:20251217T100000Z
SUMMARY:Прикладная микромеханика
LOCATION:Хим. к. 34
END:VEVENT
BEGIN:VEVENT
UID:8br6@192.168.245.71:3006
SEQUENCE:0
DTSTAMP:20260424T231634Z
DTSTART:20251217T070000Z
DTEND:20251217T100000Z
SUMMARY:Вычислительная механика
LOCATION:ГЗ 346
END:VEVENT
BEGIN:VEVENT
UID:ax4f@192.168.245.71:3006
SEQUENCE:0
DTSTAMP:20260424T231634Z
DTSTART:20251217T110000Z
DTEND:20251217T140000Z
SUMMARY:Прикладная микромеханика
LOCATION:Хим. к. 34
END:VEVENT
BEGIN:VEVENT
UID:sxst@192.168.245.71:3006
SEQUENCE:0
DTSTAMP:20260424T231634Z
DTSTART:20251217T110000Z
DTEND:20251217T140000Z
SUMMARY:Вычислительная механика
LOCATION:ГЗ 346
END:VEVENT
BEGIN:VEVENT
UID:sxx9@192.168.245.71:3006
SEQUENCE:0
DTSTAMP:20260424T231634Z
DTSTART:20251218T070000Z
DTEND:20251218T100000Z
SUMMARY:Вычислительная механика
LOCATION:ГЗ 346-4ВИРД
END:VEVENT
BEGIN:VEVENT
UID:m6wr@192.168.245.71:3006
SEQUENCE:0
DTSTAMP:20260424T231634Z
DTSTART:20251218T110000Z
DTEND:20251218T140000Z
SUMMARY:Вычислительная механика
LOCATION:ГЗ 346
END:VEVENT
BEGIN:VEVENT
UID:ffy4@192.168.245.71:3006
SEQUENCE:0
DTSTAMP:20260424T231634Z
DTSTART:20251220T110000Z
DTEND:20251220T140000Z
SUMMARY:Вычислительная механика
LOCATION:ГЗ 346
END:VEVENT
END:VCALENDAR