BEGIN:VCALENDAR
VERSION:2.0
PRODID:-//spbstu.ru//ical//RU
NAME:Расписание
X-WR-CALNAME:Расписание
TIMEZONE-ID:Europe/Moscow
X-WR-TIMEZONE:Europe/Moscow
BEGIN:VEVENT
UID:izvz@192.168.245.71:3006
SEQUENCE:0
DTSTAMP:20260423T152234Z
DTSTART:20260211T090000Z
DTEND:20260211T104000Z
SUMMARY:Технологии обработки и визуализации данных
LOCATION:ГЗ 346-5
END:VEVENT
BEGIN:VEVENT
UID:g6cn@192.168.245.71:3006
SEQUENCE:0
DTSTAMP:20260423T152234Z
DTSTART:20260211T110000Z
DTEND:20260211T124000Z
SUMMARY:Технологии обработки и визуализации данных
LOCATION:ГЗ 346-5
END:VEVENT
BEGIN:VEVENT
UID:y9py@192.168.245.71:3006
SEQUENCE:0
DTSTAMP:20260423T152234Z
DTSTART:20260212T090000Z
DTEND:20260212T104000Z
SUMMARY:Механика деформируемого твердого тела
LOCATION:ГЗ 346-4ВИРД
END:VEVENT
BEGIN:VEVENT
UID:tvvh@192.168.245.71:3006
SEQUENCE:0
DTSTAMP:20260423T152234Z
DTSTART:20260212T110000Z
DTEND:20260212T124000Z
SUMMARY:Механика деформируемого твердого тела
LOCATION:ГЗ 346-4ВИРД
END:VEVENT
END:VCALENDAR