BEGIN:VCALENDAR
VERSION:2.0
PRODID:-//spbstu.ru//ical//RU
NAME:Расписание
X-WR-CALNAME:Расписание
TIMEZONE-ID:Europe/Moscow
X-WR-TIMEZONE:Europe/Moscow
BEGIN:VEVENT
UID:t2z9@192.168.245.71:3006
SEQUENCE:0
DTSTAMP:20260422T042706Z
DTSTART:20260514T090000Z
DTEND:20260514T104000Z
SUMMARY:Механика деформируемого твердого тела
LOCATION:ГЗ 346-4ВИРД
END:VEVENT
BEGIN:VEVENT
UID:uczr@192.168.245.71:3006
SEQUENCE:0
DTSTAMP:20260422T042706Z
DTSTART:20260514T110000Z
DTEND:20260514T124000Z
SUMMARY:Механика деформируемого твердого тела
LOCATION:ГЗ 346-4ВИРД
END:VEVENT
END:VCALENDAR