BEGIN:VCALENDAR
VERSION:2.0
PRODID:-//spbstu.ru//ical//RU
NAME:Расписание
X-WR-CALNAME:Расписание
TIMEZONE-ID:Europe/Moscow
X-WR-TIMEZONE:Europe/Moscow
BEGIN:VEVENT
UID:ttqn@192.168.245.71:3006
SEQUENCE:0
DTSTAMP:20260423T002103Z
DTSTART:20251110T070000Z
DTEND:20251110T084000Z
SUMMARY:Водные пути и порты
LOCATION:ГК-2 508
END:VEVENT
BEGIN:VEVENT
UID:9qw8@192.168.245.71:3006
SEQUENCE:0
DTSTAMP:20260423T002103Z
DTSTART:20251110T090000Z
DTEND:20251110T104000Z
SUMMARY:Водные пути и порты
LOCATION:ГК-2 508
END:VEVENT
BEGIN:VEVENT
UID:oj60@192.168.245.71:3006
SEQUENCE:0
DTSTAMP:20260423T002103Z
DTSTART:20251110T110000Z
DTEND:20251110T124000Z
SUMMARY:Оградительные и причальные сооружения
LOCATION:ГК-2 508
END:VEVENT
BEGIN:VEVENT
UID:2imk@192.168.245.71:3006
SEQUENCE:0
DTSTAMP:20260423T002103Z
DTSTART:20251111T090000Z
DTEND:20251111T104000Z
SUMMARY:Оградительные и причальные сооружения
LOCATION:ГК-2 205
END:VEVENT
BEGIN:VEVENT
UID:re4i@192.168.245.71:3006
SEQUENCE:0
DTSTAMP:20260423T002103Z
DTSTART:20251114T070000Z
DTEND:20251114T084000Z
SUMMARY:Морские ГТС
LOCATION:ГК-2 508
END:VEVENT
BEGIN:VEVENT
UID:ul8f@192.168.245.71:3006
SEQUENCE:0
DTSTAMP:20260423T002103Z
DTSTART:20251114T090000Z
DTEND:20251114T104000Z
SUMMARY:Введение в гидротехническое и энергетическое строительство
LOCATION:ГК-2 508
END:VEVENT
BEGIN:VEVENT
UID:2qj1@192.168.245.71:3006
SEQUENCE:0
DTSTAMP:20260423T002103Z
DTSTART:20251114T110000Z
DTEND:20251114T124000Z
SUMMARY:Морские ГТС
LOCATION:ГК-2 508
END:VEVENT
BEGIN:VEVENT
UID:c582@192.168.245.71:3006
SEQUENCE:0
DTSTAMP:20260423T002103Z
DTSTART:20251114T130000Z
DTEND:20251114T144000Z
SUMMARY:Морские ГТС
LOCATION:ГК-2 508
END:VEVENT
END:VCALENDAR