BEGIN:VCALENDAR
VERSION:2.0
PRODID:-//spbstu.ru//ical//RU
NAME:Расписание
X-WR-CALNAME:Расписание
TIMEZONE-ID:Europe/Moscow
X-WR-TIMEZONE:Europe/Moscow
BEGIN:VEVENT
UID:0ak4@192.168.245.71:3006
SEQUENCE:0
DTSTAMP:20260423T173107Z
DTSTART:20251124T070000Z
DTEND:20251124T084000Z
SUMMARY:Водные пути и порты
LOCATION:ГК-2 508
END:VEVENT
BEGIN:VEVENT
UID:rmkj@192.168.245.71:3006
SEQUENCE:0
DTSTAMP:20260423T173107Z
DTSTART:20251124T090000Z
DTEND:20251124T104000Z
SUMMARY:Водные пути и порты
LOCATION:ГК-2 508
END:VEVENT
BEGIN:VEVENT
UID:w1sr@192.168.245.71:3006
SEQUENCE:0
DTSTAMP:20260423T173107Z
DTSTART:20251124T110000Z
DTEND:20251124T124000Z
SUMMARY:Оградительные и причальные сооружения
LOCATION:ГК-2 508
END:VEVENT
BEGIN:VEVENT
UID:6wd9@192.168.245.71:3006
SEQUENCE:0
DTSTAMP:20260423T173107Z
DTSTART:20251125T090000Z
DTEND:20251125T104000Z
SUMMARY:Оградительные и причальные сооружения
LOCATION:ГК-2 205
END:VEVENT
BEGIN:VEVENT
UID:zw41@192.168.245.71:3006
SEQUENCE:0
DTSTAMP:20260423T173107Z
DTSTART:20251128T070000Z
DTEND:20251128T084000Z
SUMMARY:Морские ГТС
LOCATION:ГК-2 508
END:VEVENT
BEGIN:VEVENT
UID:4i66@192.168.245.71:3006
SEQUENCE:0
DTSTAMP:20260423T173107Z
DTSTART:20251128T090000Z
DTEND:20251128T104000Z
SUMMARY:Введение в гидротехническое и энергетическое строительство
LOCATION:ГК-2 508
END:VEVENT
BEGIN:VEVENT
UID:mt4f@192.168.245.71:3006
SEQUENCE:0
DTSTAMP:20260423T173107Z
DTSTART:20251128T110000Z
DTEND:20251128T124000Z
SUMMARY:Морские ГТС
LOCATION:ГК-2 508
END:VEVENT
BEGIN:VEVENT
UID:cx49@192.168.245.71:3006
SEQUENCE:0
DTSTAMP:20260423T173107Z
DTSTART:20251128T130000Z
DTEND:20251128T144000Z
SUMMARY:Морские ГТС
LOCATION:ГК-2 508
END:VEVENT
END:VCALENDAR