BEGIN:VCALENDAR
VERSION:2.0
PRODID:-//spbstu.ru//ical//RU
NAME:Расписание
X-WR-CALNAME:Расписание
TIMEZONE-ID:Europe/Moscow
X-WR-TIMEZONE:Europe/Moscow
BEGIN:VEVENT
UID:ipyy@192.168.245.71:3006
SEQUENCE:0
DTSTAMP:20260421T081125Z
DTSTART:20260518T070000Z
DTEND:20260518T084000Z
SUMMARY:Обеспечение судоходства и компоновка порта
LOCATION:ГК-2 507
END:VEVENT
BEGIN:VEVENT
UID:n4sc@192.168.245.71:3006
SEQUENCE:0
DTSTAMP:20260421T081125Z
DTSTART:20260518T110000Z
DTEND:20260518T124000Z
SUMMARY:Водные пути и порты
LOCATION:ГК-2 508
END:VEVENT
BEGIN:VEVENT
UID:z3pb@192.168.245.71:3006
SEQUENCE:0
DTSTAMP:20260421T081125Z
DTSTART:20260522T070000Z
DTEND:20260522T084000Z
SUMMARY:Оградительные и причальные сооружения
LOCATION:ГК-2 508
END:VEVENT
BEGIN:VEVENT
UID:kwyk@192.168.245.71:3006
SEQUENCE:0
DTSTAMP:20260421T081125Z
DTSTART:20260522T090000Z
DTEND:20260522T104000Z
SUMMARY:Оградительные и причальные сооружения
LOCATION:ГК-2 508
END:VEVENT
END:VCALENDAR