BEGIN:VCALENDAR
VERSION:2.0
PRODID:-//spbstu.ru//ical//RU
NAME:Расписание
X-WR-CALNAME:Расписание
TIMEZONE-ID:Europe/Moscow
X-WR-TIMEZONE:Europe/Moscow
BEGIN:VEVENT
UID:8rmf@192.168.245.71:3006
SEQUENCE:0
DTSTAMP:20260424T042703Z
DTSTART:20251110T090000Z
DTEND:20251110T104000Z
SUMMARY:Безопасность жизнедеятельности
LOCATION:ГК 104
END:VEVENT
BEGIN:VEVENT
UID:847l@192.168.245.71:3006
SEQUENCE:0
DTSTAMP:20260424T042703Z
DTSTART:20251111T090000Z
DTEND:20251111T104000Z
SUMMARY:Безопасность жизнедеятельности
LOCATION:ГК 118
END:VEVENT
BEGIN:VEVENT
UID:yw0q@192.168.245.71:3006
SEQUENCE:0
DTSTAMP:20260424T042703Z
DTSTART:20251111T110000Z
DTEND:20251111T124000Z
SUMMARY:Безопасность жизнедеятельности
LOCATION:ГК 104
END:VEVENT
BEGIN:VEVENT
UID:a481@192.168.245.71:3006
SEQUENCE:0
DTSTAMP:20260424T042703Z
DTSTART:20251111T130000Z
DTEND:20251111T144000Z
SUMMARY:Безопасность жизнедеятельности
LOCATION:ГК 104
END:VEVENT
BEGIN:VEVENT
UID:dadn@192.168.245.71:3006
SEQUENCE:0
DTSTAMP:20260424T042703Z
DTSTART:20251115T090000Z
DTEND:20251115T104000Z
SUMMARY:Разработка и использование уровней действия в аварийной ситуации (
 УДАС) и действующих уровней вмешательства (ДУВ) (на английском языке)
LOCATION:ГК 441
END:VEVENT
BEGIN:VEVENT
UID:ts8s@192.168.245.71:3006
SEQUENCE:0
DTSTAMP:20260424T042703Z
DTSTART:20251115T110000Z
DTEND:20251115T124000Z
SUMMARY:Разработка и использование уровней действия в аварийной ситуации (
 УДАС) и действующих уровней вмешательства (ДУВ) (на английском языке)
LOCATION:ГК 441
END:VEVENT
END:VCALENDAR