BEGIN:VCALENDAR
VERSION:2.0
PRODID:-//spbstu.ru//ical//RU
NAME:Расписание
X-WR-CALNAME:Расписание
TIMEZONE-ID:Europe/Moscow
X-WR-TIMEZONE:Europe/Moscow
BEGIN:VEVENT
UID:m22b@192.168.245.71:3006
SEQUENCE:0
DTSTAMP:20260425T042139Z
DTSTART:20250929T090000Z
DTEND:20250929T104000Z
SUMMARY:Безопасность жизнедеятельности
LOCATION:ГК 104
END:VEVENT
BEGIN:VEVENT
UID:z1b9@192.168.245.71:3006
SEQUENCE:0
DTSTAMP:20260425T042139Z
DTSTART:20250929T110000Z
DTEND:20250929T114500Z
SUMMARY:Безопасность жизнедеятельности
LOCATION:ГК 104
END:VEVENT
BEGIN:VEVENT
UID:u242@192.168.245.71:3006
SEQUENCE:0
DTSTAMP:20260425T042139Z
DTSTART:20250930T110000Z
DTEND:20250930T124000Z
SUMMARY:Безопасность жизнедеятельности
LOCATION:ГК 104
END:VEVENT
BEGIN:VEVENT
UID:ig9x@192.168.245.71:3006
SEQUENCE:0
DTSTAMP:20260425T042139Z
DTSTART:20250930T130000Z
DTEND:20250930T144000Z
SUMMARY:Безопасность жизнедеятельности
LOCATION:ГК 104
END:VEVENT
BEGIN:VEVENT
UID:7dgs@192.168.245.71:3006
SEQUENCE:0
DTSTAMP:20260425T042139Z
DTSTART:20251004T090000Z
DTEND:20251004T104000Z
SUMMARY:Разработка и использование уровней действия в аварийной ситуации (
 УДАС) и действующих уровней вмешательства (ДУВ) (на английском языке)
LOCATION:ГК 441
END:VEVENT
BEGIN:VEVENT
UID:2obk@192.168.245.71:3006
SEQUENCE:0
DTSTAMP:20260425T042139Z
DTSTART:20251004T110000Z
DTEND:20251004T124000Z
SUMMARY:Разработка и использование уровней действия в аварийной ситуации (
 УДАС) и действующих уровней вмешательства (ДУВ) (на английском языке)
LOCATION:ГК 441
END:VEVENT
END:VCALENDAR