BEGIN:VCALENDAR
VERSION:2.0
PRODID:-//spbstu.ru//ical//RU
NAME:Расписание
X-WR-CALNAME:Расписание
TIMEZONE-ID:Europe/Moscow
X-WR-TIMEZONE:Europe/Moscow
BEGIN:VEVENT
UID:fi9c@192.168.245.71:3006
SEQUENCE:0
DTSTAMP:20260421T200713Z
DTSTART:20260224T070000Z
DTEND:20260224T084000Z
SUMMARY:Безопасность жизнедеятельности
LOCATION:ГК 104
END:VEVENT
BEGIN:VEVENT
UID:89nv@192.168.245.71:3006
SEQUENCE:0
DTSTAMP:20260421T200713Z
DTSTART:20260224T090000Z
DTEND:20260224T104000Z
SUMMARY:Безопасность жизнедеятельности
LOCATION:ГК 104
END:VEVENT
BEGIN:VEVENT
UID:z5uf@192.168.245.71:3006
SEQUENCE:0
DTSTAMP:20260421T200713Z
DTSTART:20260224T110000Z
DTEND:20260224T124000Z
SUMMARY:Безопасность жизнедеятельности
LOCATION:ГК 106
END:VEVENT
BEGIN:VEVENT
UID:uviq@192.168.245.71:3006
SEQUENCE:0
DTSTAMP:20260421T200713Z
DTSTART:20260224T110000Z
DTEND:20260224T124000Z
SUMMARY:Безопасность жизнедеятельности
LOCATION:ГК 106
END:VEVENT
END:VCALENDAR