BEGIN:VCALENDAR
VERSION:2.0
PRODID:-//spbstu.ru//ical//RU
NAME:Расписание
X-WR-CALNAME:Расписание
TIMEZONE-ID:Europe/Moscow
X-WR-TIMEZONE:Europe/Moscow
BEGIN:VEVENT
UID:da5g@192.168.245.71:3006
SEQUENCE:0
DTSTAMP:20260422T055635Z
DTSTART:20260209T130000Z
DTEND:20260209T144000Z
SUMMARY:Безопасность жизнедеятельности
LOCATION:ГК 104
END:VEVENT
BEGIN:VEVENT
UID:p0kx@192.168.245.71:3006
SEQUENCE:0
DTSTAMP:20260422T055635Z
DTSTART:20260209T150000Z
DTEND:20260209T164000Z
SUMMARY:Безопасность жизнедеятельности
LOCATION:ГК 119
END:VEVENT
BEGIN:VEVENT
UID:qogz@192.168.245.71:3006
SEQUENCE:0
DTSTAMP:20260422T055635Z
DTSTART:20260209T150000Z
DTEND:20260209T164000Z
SUMMARY:Безопасность жизнедеятельности
LOCATION:ГК 119
END:VEVENT
BEGIN:VEVENT
UID:e0ps@192.168.245.71:3006
SEQUENCE:0
DTSTAMP:20260422T055635Z
DTSTART:20260209T150000Z
DTEND:20260209T164000Z
SUMMARY:Безопасность жизнедеятельности
LOCATION:ГК 119
END:VEVENT
BEGIN:VEVENT
UID:ckb7@192.168.245.71:3006
SEQUENCE:0
DTSTAMP:20260422T055635Z
DTSTART:20260209T150000Z
DTEND:20260209T164000Z
SUMMARY:Безопасность жизнедеятельности
LOCATION:ГК 119
END:VEVENT
BEGIN:VEVENT
UID:d8lp@192.168.245.71:3006
SEQUENCE:0
DTSTAMP:20260422T055635Z
DTSTART:20260210T070000Z
DTEND:20260210T084000Z
SUMMARY:Безопасность жизнедеятельности
LOCATION:ГК 104
END:VEVENT
BEGIN:VEVENT
UID:r2sw@192.168.245.71:3006
SEQUENCE:0
DTSTAMP:20260422T055635Z
DTSTART:20260210T090000Z
DTEND:20260210T104000Z
SUMMARY:Безопасность жизнедеятельности
LOCATION:ГК 104
END:VEVENT
BEGIN:VEVENT
UID:601e@192.168.245.71:3006
SEQUENCE:0
DTSTAMP:20260422T055635Z
DTSTART:20260210T110000Z
DTEND:20260210T124000Z
SUMMARY:Безопасность жизнедеятельности
LOCATION:ГК 106
END:VEVENT
BEGIN:VEVENT
UID:2xma@192.168.245.71:3006
SEQUENCE:0
DTSTAMP:20260422T055635Z
DTSTART:20260210T110000Z
DTEND:20260210T124000Z
SUMMARY:Безопасность жизнедеятельности
LOCATION:ГК 106
END:VEVENT
BEGIN:VEVENT
UID:yrqy@192.168.245.71:3006
SEQUENCE:0
DTSTAMP:20260422T055635Z
DTSTART:20260210T150000Z
DTEND:20260210T170000Z
SUMMARY:Безопасность жизнедеятельности
LOCATION:ГК 104
END:VEVENT
END:VCALENDAR