BEGIN:VCALENDAR
VERSION:2.0
PRODID:-//spbstu.ru//ical//RU
NAME:Расписание
X-WR-CALNAME:Расписание
TIMEZONE-ID:Europe/Moscow
X-WR-TIMEZONE:Europe/Moscow
BEGIN:VEVENT
UID:4l95@192.168.245.71:3006
SEQUENCE:0
DTSTAMP:20260423T062915Z
DTSTART:20251112T090000Z
DTEND:20251112T104000Z
SUMMARY:Передовые методы расчета и конструирования компрессоров и вспомога
 тельного оборудования топливно-энергетического комплекса
LOCATION:Мех. к. Лаб. компрессоростроения №38
END:VEVENT
BEGIN:VEVENT
UID:3x8w@192.168.245.71:3006
SEQUENCE:0
DTSTAMP:20260423T062915Z
DTSTART:20251113T090000Z
DTEND:20251113T104000Z
SUMMARY:Холодильная техника
LOCATION:Мех. к. Лаб. компрессоростроения №38
END:VEVENT
BEGIN:VEVENT
UID:e8lc@192.168.245.71:3006
SEQUENCE:0
DTSTAMP:20260423T062915Z
DTSTART:20251113T110000Z
DTEND:20251113T124000Z
SUMMARY:Холодильная техника
LOCATION:Мех. к. Лаб. компрессоростроения №38
END:VEVENT
END:VCALENDAR