BEGIN:VCALENDAR
VERSION:2.0
PRODID:-//spbstu.ru//ical//RU
NAME:Расписание
X-WR-CALNAME:Расписание
TIMEZONE-ID:Europe/Moscow
X-WR-TIMEZONE:Europe/Moscow
BEGIN:VEVENT
UID:ceam@192.168.245.71:3006
SEQUENCE:0
DTSTAMP:20260422T002522Z
DTSTART:20260218T110000Z
DTEND:20260218T124000Z
SUMMARY:Технологии машиностроения
LOCATION:Мех. к. Лаб. компрессоростроения №38
END:VEVENT
BEGIN:VEVENT
UID:r26p@192.168.245.71:3006
SEQUENCE:0
DTSTAMP:20260422T002522Z
DTSTART:20260218T130000Z
DTEND:20260218T144000Z
SUMMARY:Компрессоры
LOCATION:Мех. к. Лаб. компрессоростроения №38
END:VEVENT
BEGIN:VEVENT
UID:ilkj@192.168.245.71:3006
SEQUENCE:0
DTSTAMP:20260422T002522Z
DTSTART:20260219T110000Z
DTEND:20260219T124000Z
SUMMARY:Компрессоры и вентиляторы
LOCATION:Мех. к. Лаб. компрессоростроения №38
END:VEVENT
BEGIN:VEVENT
UID:mlcq@192.168.245.71:3006
SEQUENCE:0
DTSTAMP:20260422T002522Z
DTSTART:20260219T130000Z
DTEND:20260219T144000Z
SUMMARY:Технологии машиностроения
LOCATION:Мех. к. Лаб. компрессоростроения №38
END:VEVENT
END:VCALENDAR