BEGIN:VCALENDAR
VERSION:2.0
PRODID:-//spbstu.ru//ical//RU
NAME:Расписание
X-WR-CALNAME:Расписание
TIMEZONE-ID:Europe/Moscow
X-WR-TIMEZONE:Europe/Moscow
BEGIN:VEVENT
UID:pi1z@192.168.245.71:3006
SEQUENCE:0
DTSTAMP:20260421T173211Z
DTSTART:20260311T110000Z
DTEND:20260311T124000Z
SUMMARY:Технологии машиностроения
LOCATION:Мех. к. Лаб. компрессоростроения №38
END:VEVENT
BEGIN:VEVENT
UID:a0mh@192.168.245.71:3006
SEQUENCE:0
DTSTAMP:20260421T173211Z
DTSTART:20260311T130000Z
DTEND:20260311T144000Z
SUMMARY:Технологии машиностроения
LOCATION:Мех. к. Лаб. компрессоростроения №38
END:VEVENT
BEGIN:VEVENT
UID:turh@192.168.245.71:3006
SEQUENCE:0
DTSTAMP:20260421T173211Z
DTSTART:20260312T090000Z
DTEND:20260312T104000Z
SUMMARY:Компрессоры и вентиляторы
LOCATION:Мех. к. Лаб. компрессоростроения №38
END:VEVENT
BEGIN:VEVENT
UID:lgtu@192.168.245.71:3006
SEQUENCE:0
DTSTAMP:20260421T173211Z
DTSTART:20260312T110000Z
DTEND:20260312T124000Z
SUMMARY:Компрессоры и вентиляторы
LOCATION:Мех. к. Лаб. компрессоростроения №38
END:VEVENT
END:VCALENDAR