BEGIN:VCALENDAR
VERSION:2.0
PRODID:-//spbstu.ru//ical//RU
NAME:Расписание
X-WR-CALNAME:Расписание
TIMEZONE-ID:Europe/Moscow
X-WR-TIMEZONE:Europe/Moscow
BEGIN:VEVENT
UID:h4hr@192.168.245.71:3006
SEQUENCE:0
DTSTAMP:20260421T081212Z
DTSTART:20260415T110000Z
DTEND:20260415T124000Z
SUMMARY:Технологии машиностроения
LOCATION:Мех. к. Лаб. компрессоростроения №38
END:VEVENT
BEGIN:VEVENT
UID:9nze@192.168.245.71:3006
SEQUENCE:0
DTSTAMP:20260421T081212Z
DTSTART:20260416T110000Z
DTEND:20260416T124000Z
SUMMARY:Компрессоры и вентиляторы
LOCATION:Мех. к. Лаб. компрессоростроения №38
END:VEVENT
BEGIN:VEVENT
UID:bf0f@192.168.245.71:3006
SEQUENCE:0
DTSTAMP:20260421T081212Z
DTSTART:20260416T130000Z
DTEND:20260416T144000Z
SUMMARY:Технологии машиностроения
LOCATION:Мех. к. Лаб. компрессоростроения №38
END:VEVENT
END:VCALENDAR