BEGIN:VCALENDAR
VERSION:2.0
PRODID:-//spbstu.ru//ical//RU
NAME:Расписание
X-WR-CALNAME:Расписание
TIMEZONE-ID:Europe/Moscow
X-WR-TIMEZONE:Europe/Moscow
BEGIN:VEVENT
UID:qpbu@192.168.245.71:3006
SEQUENCE:0
DTSTAMP:20260423T103736Z
DTSTART:20260123T110000Z
DTEND:20260123T124000Z
SUMMARY:Экспертиза и оценка условий труда
LOCATION:ГК 438
END:VEVENT
BEGIN:VEVENT
UID:dyfe@192.168.245.71:3006
SEQUENCE:0
DTSTAMP:20260423T103736Z
DTSTART:20260123T110000Z
DTEND:20260123T124000Z
SUMMARY:Экспертиза и оценка условий труда
LOCATION:ГК 438
END:VEVENT
END:VCALENDAR