BEGIN:VCALENDAR
VERSION:2.0
PRODID:-//spbstu.ru//ical//RU
NAME:Расписание
X-WR-CALNAME:Расписание
TIMEZONE-ID:Europe/Moscow
X-WR-TIMEZONE:Europe/Moscow
BEGIN:VEVENT
UID:7tsb@192.168.245.71:3006
SEQUENCE:0
DTSTAMP:20260422T042607Z
DTSTART:20260317T130000Z
DTEND:20260317T144000Z
SUMMARY:Аудит охраны труда
LOCATION:ГК 440
END:VEVENT
BEGIN:VEVENT
UID:0alb@192.168.245.71:3006
SEQUENCE:0
DTSTAMP:20260422T042607Z
DTSTART:20260317T150000Z
DTEND:20260317T164000Z
SUMMARY:Безопасность жизнедеятельности
LOCATION:ГК 118
END:VEVENT
BEGIN:VEVENT
UID:8bvv@192.168.245.71:3006
SEQUENCE:0
DTSTAMP:20260422T042607Z
DTSTART:20260318T090000Z
DTEND:20260318T104000Z
SUMMARY:Безопасность жизнедеятельности
LOCATION:ГК 106
END:VEVENT
BEGIN:VEVENT
UID:34zn@192.168.245.71:3006
SEQUENCE:0
DTSTAMP:20260422T042607Z
DTSTART:20260318T110000Z
DTEND:20260318T124000Z
SUMMARY:Безопасность жизнедеятельности
LOCATION:ГК 106
END:VEVENT
BEGIN:VEVENT
UID:zgsw@192.168.245.71:3006
SEQUENCE:0
DTSTAMP:20260422T042607Z
DTSTART:20260318T130000Z
DTEND:20260318T144000Z
SUMMARY:Аудит охраны труда
LOCATION:ГК 441
END:VEVENT
BEGIN:VEVENT
UID:ab3k@192.168.245.71:3006
SEQUENCE:0
DTSTAMP:20260422T042607Z
DTSTART:20260318T150000Z
DTEND:20260318T160000Z
SUMMARY:Безопасность жизнедеятельности
LOCATION:ГК 104
END:VEVENT
BEGIN:VEVENT
UID:ejyh@192.168.245.71:3006
SEQUENCE:0
DTSTAMP:20260422T042607Z
DTSTART:20260318T150000Z
DTEND:20260318T160000Z
SUMMARY:Безопасность жизнедеятельности
LOCATION:ГК 104
END:VEVENT
BEGIN:VEVENT
UID:in3e@192.168.245.71:3006
SEQUENCE:0
DTSTAMP:20260422T042607Z
DTSTART:20260320T090000Z
DTEND:20260320T104000Z
SUMMARY:Безопасность жизнедеятельности
LOCATION:ГК 106
END:VEVENT
BEGIN:VEVENT
UID:0075@192.168.245.71:3006
SEQUENCE:0
DTSTAMP:20260422T042607Z
DTSTART:20260320T110000Z
DTEND:20260320T124000Z
SUMMARY:Безопасность жизнедеятельности
LOCATION:ГК 106
END:VEVENT
BEGIN:VEVENT
UID:xkoq@192.168.245.71:3006
SEQUENCE:0
DTSTAMP:20260422T042607Z
DTSTART:20260320T130000Z
DTEND:20260320T144000Z
SUMMARY:Безопасность жизнедеятельности
LOCATION:ГК 106
END:VEVENT
BEGIN:VEVENT
UID:pp8a@192.168.245.71:3006
SEQUENCE:0
DTSTAMP:20260422T042607Z
DTSTART:20260320T150000Z
DTEND:20260320T164000Z
SUMMARY:Безопасность жизнедеятельности
LOCATION:ГК 118
END:VEVENT
END:VCALENDAR