BEGIN:VCALENDAR
VERSION:2.0
PRODID:-//spbstu.ru//ical//RU
NAME:Расписание
X-WR-CALNAME:Расписание
TIMEZONE-ID:Europe/Moscow
X-WR-TIMEZONE:Europe/Moscow
BEGIN:VEVENT
UID:fsmv@192.168.245.71:3006
SEQUENCE:0
DTSTAMP:20260421T114812Z
DTSTART:20260415T090000Z
DTEND:20260415T104000Z
SUMMARY:Безопасность жизнедеятельности
LOCATION:ГК 106
END:VEVENT
BEGIN:VEVENT
UID:d9zw@192.168.245.71:3006
SEQUENCE:0
DTSTAMP:20260421T114812Z
DTSTART:20260415T110000Z
DTEND:20260415T124000Z
SUMMARY:Безопасность жизнедеятельности
LOCATION:ГК 106
END:VEVENT
BEGIN:VEVENT
UID:knhd@192.168.245.71:3006
SEQUENCE:0
DTSTAMP:20260421T114812Z
DTSTART:20260416T170000Z
DTEND:20260416T184000Z
SUMMARY:Аудит охраны труда
LOCATION:ГК 441
END:VEVENT
BEGIN:VEVENT
UID:rio1@192.168.245.71:3006
SEQUENCE:0
DTSTAMP:20260421T114812Z
DTSTART:20260417T090000Z
DTEND:20260417T104000Z
SUMMARY:Безопасность жизнедеятельности
LOCATION:ГК 106
END:VEVENT
BEGIN:VEVENT
UID:u9qm@192.168.245.71:3006
SEQUENCE:0
DTSTAMP:20260421T114812Z
DTSTART:20260417T110000Z
DTEND:20260417T124000Z
SUMMARY:Безопасность жизнедеятельности
LOCATION:ГК 106
END:VEVENT
BEGIN:VEVENT
UID:surf@192.168.245.71:3006
SEQUENCE:0
DTSTAMP:20260421T114812Z
DTSTART:20260417T130000Z
DTEND:20260417T144000Z
SUMMARY:Безопасность жизнедеятельности
LOCATION:ГК 106
END:VEVENT
BEGIN:VEVENT
UID:akpu@192.168.245.71:3006
SEQUENCE:0
DTSTAMP:20260421T114812Z
DTSTART:20260417T150000Z
DTEND:20260417T164000Z
SUMMARY:Безопасность жизнедеятельности
LOCATION:ГК 119
END:VEVENT
BEGIN:VEVENT
UID:51to@192.168.245.71:3006
SEQUENCE:0
DTSTAMP:20260421T114812Z
DTSTART:20260417T170000Z
DTEND:20260417T184000Z
SUMMARY:Аудит охраны труда
LOCATION:ГК 441
END:VEVENT
END:VCALENDAR