BEGIN:VCALENDAR
VERSION:2.0
PRODID:-//spbstu.ru//ical//RU
NAME:Расписание
X-WR-CALNAME:Расписание
TIMEZONE-ID:Europe/Moscow
X-WR-TIMEZONE:Europe/Moscow
BEGIN:VEVENT
UID:lhr8@192.168.245.71:3006
SEQUENCE:0
DTSTAMP:20260421T132358Z
DTSTART:20260506T090000Z
DTEND:20260506T104000Z
SUMMARY:Безопасность жизнедеятельности
LOCATION:ГК 106
END:VEVENT
BEGIN:VEVENT
UID:myrj@192.168.245.71:3006
SEQUENCE:0
DTSTAMP:20260421T132358Z
DTSTART:20260506T110000Z
DTEND:20260506T124000Z
SUMMARY:Безопасность жизнедеятельности
LOCATION:ГК 106
END:VEVENT
BEGIN:VEVENT
UID:ye0y@192.168.245.71:3006
SEQUENCE:0
DTSTAMP:20260421T132358Z
DTSTART:20260506T130000Z
DTEND:20260506T144000Z
SUMMARY:Безопасность жизнедеятельности
LOCATION:ГК 119
END:VEVENT
BEGIN:VEVENT
UID:nzkh@192.168.245.71:3006
SEQUENCE:0
DTSTAMP:20260421T132358Z
DTSTART:20260507T130000Z
DTEND:20260507T144000Z
SUMMARY:Безопасность жизнедеятельности
LOCATION:ГК 119
END:VEVENT
BEGIN:VEVENT
UID:y2gg@192.168.245.71:3006
SEQUENCE:0
DTSTAMP:20260421T132358Z
DTSTART:20260508T110000Z
DTEND:20260508T124000Z
SUMMARY:Безопасность жизнедеятельности
LOCATION:ГК 106
END:VEVENT
BEGIN:VEVENT
UID:k8q5@192.168.245.71:3006
SEQUENCE:0
DTSTAMP:20260421T132358Z
DTSTART:20260508T130000Z
DTEND:20260508T144000Z
SUMMARY:Безопасность жизнедеятельности
LOCATION:ГК 106
END:VEVENT
END:VCALENDAR