BEGIN:VCALENDAR
VERSION:2.0
PRODID:-//spbstu.ru//ical//RU
NAME:Расписание
X-WR-CALNAME:Расписание
TIMEZONE-ID:Europe/Moscow
X-WR-TIMEZONE:Europe/Moscow
BEGIN:VEVENT
UID:j1vt@192.168.245.71:3006
SEQUENCE:0
DTSTAMP:20260424T013129Z
DTSTART:20251202T090000Z
DTEND:20251202T104000Z
SUMMARY:Инженерные мелиорации
LOCATION:ГК-2 508
END:VEVENT
BEGIN:VEVENT
UID:j79y@192.168.245.71:3006
SEQUENCE:0
DTSTAMP:20260424T013129Z
DTSTART:20251203T070000Z
DTEND:20251203T084000Z
SUMMARY:Инженерные мелиорации
LOCATION:ГК-2 508
END:VEVENT
BEGIN:VEVENT
UID:ppjj@192.168.245.71:3006
SEQUENCE:0
DTSTAMP:20260424T013129Z
DTSTART:20251204T070000Z
DTEND:20251204T084000Z
SUMMARY:Ландшафтная архитектура
LOCATION:ГК-2 315
END:VEVENT
BEGIN:VEVENT
UID:nutm@192.168.245.71:3006
SEQUENCE:0
DTSTAMP:20260424T013129Z
DTSTART:20251204T090000Z
DTEND:20251204T104000Z
SUMMARY:Ландшафтно-экологическая оценка и благоустройство территорий
LOCATION:ГК-2 406
END:VEVENT
END:VCALENDAR