BEGIN:VCALENDAR
VERSION:2.0
PRODID:-//spbstu.ru//ical//RU
NAME:Расписание
X-WR-CALNAME:Расписание
TIMEZONE-ID:Europe/Moscow
X-WR-TIMEZONE:Europe/Moscow
BEGIN:VEVENT
UID:v3u9@192.168.245.71:3006
SEQUENCE:0
DTSTAMP:20260423T050150Z
DTSTART:20260120T090000Z
DTEND:20260120T104000Z
SUMMARY:Инженерные мелиорации
LOCATION:ГК-2 301а
END:VEVENT
BEGIN:VEVENT
UID:e5wc@192.168.245.71:3006
SEQUENCE:0
DTSTAMP:20260423T050150Z
DTSTART:20260121T070000Z
DTEND:20260121T110000Z
SUMMARY:Инженерные мелиорации
LOCATION:ГК-2 301а
END:VEVENT
END:VCALENDAR