BEGIN:VCALENDAR
VERSION:2.0
PRODID:-//spbstu.ru//ical//RU
NAME:Расписание
X-WR-CALNAME:Расписание
TIMEZONE-ID:Europe/Moscow
X-WR-TIMEZONE:Europe/Moscow
BEGIN:VEVENT
UID:y22k@192.168.245.71:3006
SEQUENCE:0
DTSTAMP:20260424T215215Z
DTSTART:20251021T090000Z
DTEND:20251021T104000Z
SUMMARY:Методы глубокого машинного обучения
LOCATION:3 к. 401
END:VEVENT
BEGIN:VEVENT
UID:02o1@192.168.245.71:3006
SEQUENCE:0
DTSTAMP:20260424T215215Z
DTSTART:20251021T110000Z
DTEND:20251021T124000Z
SUMMARY:Методы глубокого машинного обучения
LOCATION:3 к. 303
END:VEVENT
BEGIN:VEVENT
UID:mjj5@192.168.245.71:3006
SEQUENCE:0
DTSTAMP:20260424T215215Z
DTSTART:20251021T130000Z
DTEND:20251021T144000Z
SUMMARY:Нейронные сети
LOCATION:3 к. 504
END:VEVENT
BEGIN:VEVENT
UID:3f4n@192.168.245.71:3006
SEQUENCE:0
DTSTAMP:20260424T215215Z
DTSTART:20251022T090000Z
DTEND:20251022T104000Z
SUMMARY:Интеллектуальные системы
LOCATION:3 к. 401
END:VEVENT
BEGIN:VEVENT
UID:4qxz@192.168.245.71:3006
SEQUENCE:0
DTSTAMP:20260424T215215Z
DTSTART:20251022T110000Z
DTEND:20251022T124000Z
SUMMARY:Интеллектуальные системы
LOCATION:3 к. 303
END:VEVENT
BEGIN:VEVENT
UID:6h4q@192.168.245.71:3006
SEQUENCE:0
DTSTAMP:20260424T215215Z
DTSTART:20251022T110000Z
DTEND:20251022T124000Z
SUMMARY:Интеллектуальные системы
LOCATION:3 к. 303
END:VEVENT
BEGIN:VEVENT
UID:t8tf@192.168.245.71:3006
SEQUENCE:0
DTSTAMP:20260424T215215Z
DTSTART:20251022T130000Z
DTEND:20251022T144000Z
SUMMARY:Интеллектуальные системы
LOCATION:3 к. 303
END:VEVENT
BEGIN:VEVENT
UID:2ofg@192.168.245.71:3006
SEQUENCE:0
DTSTAMP:20260424T215215Z
DTSTART:20251022T130000Z
DTEND:20251022T144000Z
SUMMARY:Интеллектуальные системы
LOCATION:3 к. 303
END:VEVENT
BEGIN:VEVENT
UID:rs05@192.168.245.71:3006
SEQUENCE:0
DTSTAMP:20260424T215215Z
DTSTART:20251022T150000Z
DTEND:20251022T164000Z
SUMMARY:Интеллектуальные системы
LOCATION:3 к. 303
END:VEVENT
BEGIN:VEVENT
UID:l2kh@192.168.245.71:3006
SEQUENCE:0
DTSTAMP:20260424T215215Z
DTSTART:20251022T150000Z
DTEND:20251022T164000Z
SUMMARY:Интеллектуальные системы
LOCATION:3 к. 303
END:VEVENT
BEGIN:VEVENT
UID:mam8@192.168.245.71:3006
SEQUENCE:0
DTSTAMP:20260424T215215Z
DTSTART:20251023T110000Z
DTEND:20251023T124000Z
SUMMARY:Методы глубокого машинного обучения
LOCATION:3 к. 303
END:VEVENT
END:VCALENDAR