BEGIN:VCALENDAR
VERSION:2.0
PRODID:-//spbstu.ru//ical//RU
NAME:Расписание
X-WR-CALNAME:Расписание
TIMEZONE-ID:Europe/Moscow
X-WR-TIMEZONE:Europe/Moscow
BEGIN:VEVENT
UID:wzlo@192.168.245.71:3006
SEQUENCE:0
DTSTAMP:20260424T233605Z
DTSTART:20250930T090000Z
DTEND:20250930T104000Z
SUMMARY:Методы глубокого машинного обучения
LOCATION:3 к. 401
END:VEVENT
BEGIN:VEVENT
UID:qjn6@192.168.245.71:3006
SEQUENCE:0
DTSTAMP:20260424T233605Z
DTSTART:20250930T110000Z
DTEND:20250930T124000Z
SUMMARY:Методы глубокого машинного обучения
LOCATION:3 к. 303
END:VEVENT
BEGIN:VEVENT
UID:50lc@192.168.245.71:3006
SEQUENCE:0
DTSTAMP:20260424T233605Z
DTSTART:20251001T090000Z
DTEND:20251001T104000Z
SUMMARY:Интеллектуальные системы
LOCATION:3 к. 401
END:VEVENT
BEGIN:VEVENT
UID:fau3@192.168.245.71:3006
SEQUENCE:0
DTSTAMP:20260424T233605Z
DTSTART:20251001T110000Z
DTEND:20251001T124000Z
SUMMARY:Интеллектуальные системы
LOCATION:3 к. 303
END:VEVENT
BEGIN:VEVENT
UID:ece3@192.168.245.71:3006
SEQUENCE:0
DTSTAMP:20260424T233605Z
DTSTART:20251001T110000Z
DTEND:20251001T124000Z
SUMMARY:Интеллектуальные системы
LOCATION:3 к. 303
END:VEVENT
BEGIN:VEVENT
UID:rlye@192.168.245.71:3006
SEQUENCE:0
DTSTAMP:20260424T233605Z
DTSTART:20251001T130000Z
DTEND:20251001T144000Z
SUMMARY:Интеллектуальные системы
LOCATION:3 к. 303
END:VEVENT
BEGIN:VEVENT
UID:cstn@192.168.245.71:3006
SEQUENCE:0
DTSTAMP:20260424T233605Z
DTSTART:20251001T130000Z
DTEND:20251001T144000Z
SUMMARY:Интеллектуальные системы
LOCATION:3 к. 303
END:VEVENT
BEGIN:VEVENT
UID:d7yf@192.168.245.71:3006
SEQUENCE:0
DTSTAMP:20260424T233605Z
DTSTART:20251001T150000Z
DTEND:20251001T164000Z
SUMMARY:Интеллектуальные системы
LOCATION:3 к. 303
END:VEVENT
BEGIN:VEVENT
UID:txs2@192.168.245.71:3006
SEQUENCE:0
DTSTAMP:20260424T233605Z
DTSTART:20251001T150000Z
DTEND:20251001T164000Z
SUMMARY:Интеллектуальные системы
LOCATION:3 к. 303
END:VEVENT
BEGIN:VEVENT
UID:a4eg@192.168.245.71:3006
SEQUENCE:0
DTSTAMP:20260424T233605Z
DTSTART:20251002T090000Z
DTEND:20251002T104000Z
SUMMARY:Машинное обучение и анализ данных
LOCATION:3 к. 101
END:VEVENT
BEGIN:VEVENT
UID:4a8s@192.168.245.71:3006
SEQUENCE:0
DTSTAMP:20260424T233605Z
DTSTART:20251002T110000Z
DTEND:20251002T124000Z
SUMMARY:Методы глубокого машинного обучения
LOCATION:3 к. 303
END:VEVENT
END:VCALENDAR