BEGIN:VCALENDAR
VERSION:2.0
PRODID:-//spbstu.ru//ical//RU
NAME:Расписание
X-WR-CALNAME:Расписание
TIMEZONE-ID:Europe/Moscow
X-WR-TIMEZONE:Europe/Moscow
BEGIN:VEVENT
UID:sed6@192.168.245.71:3006
SEQUENCE:0
DTSTAMP:20260425T191606Z
DTSTART:20250909T090000Z
DTEND:20250909T104000Z
SUMMARY:Методы глубокого машинного обучения
LOCATION:3 к. 401
END:VEVENT
BEGIN:VEVENT
UID:uogs@192.168.245.71:3006
SEQUENCE:0
DTSTAMP:20260425T191606Z
DTSTART:20250909T110000Z
DTEND:20250909T124000Z
SUMMARY:Методы глубокого машинного обучения
LOCATION:3 к. 303
END:VEVENT
BEGIN:VEVENT
UID:j5m3@192.168.245.71:3006
SEQUENCE:0
DTSTAMP:20260425T191606Z
DTSTART:20250910T090000Z
DTEND:20250910T104000Z
SUMMARY:Интеллектуальные системы
LOCATION:3 к. 401
END:VEVENT
BEGIN:VEVENT
UID:dsdc@192.168.245.71:3006
SEQUENCE:0
DTSTAMP:20260425T191606Z
DTSTART:20250910T110000Z
DTEND:20250910T124000Z
SUMMARY:Интеллектуальные системы
LOCATION:3 к. 303
END:VEVENT
BEGIN:VEVENT
UID:mkok@192.168.245.71:3006
SEQUENCE:0
DTSTAMP:20260425T191606Z
DTSTART:20250910T110000Z
DTEND:20250910T124000Z
SUMMARY:Интеллектуальные системы
LOCATION:3 к. 303
END:VEVENT
BEGIN:VEVENT
UID:dffc@192.168.245.71:3006
SEQUENCE:0
DTSTAMP:20260425T191606Z
DTSTART:20250910T130000Z
DTEND:20250910T144000Z
SUMMARY:Интеллектуальные системы
LOCATION:3 к. 303
END:VEVENT
BEGIN:VEVENT
UID:0uzx@192.168.245.71:3006
SEQUENCE:0
DTSTAMP:20260425T191606Z
DTSTART:20250910T130000Z
DTEND:20250910T144000Z
SUMMARY:Интеллектуальные системы
LOCATION:3 к. 303
END:VEVENT
BEGIN:VEVENT
UID:0r70@192.168.245.71:3006
SEQUENCE:0
DTSTAMP:20260425T191606Z
DTSTART:20250910T150000Z
DTEND:20250910T164000Z
SUMMARY:Интеллектуальные системы
LOCATION:3 к. 303
END:VEVENT
BEGIN:VEVENT
UID:e0r9@192.168.245.71:3006
SEQUENCE:0
DTSTAMP:20260425T191606Z
DTSTART:20250910T150000Z
DTEND:20250910T164000Z
SUMMARY:Интеллектуальные системы
LOCATION:3 к. 303
END:VEVENT
BEGIN:VEVENT
UID:pesu@192.168.245.71:3006
SEQUENCE:0
DTSTAMP:20260425T191606Z
DTSTART:20250911T110000Z
DTEND:20250911T124000Z
SUMMARY:Методы глубокого машинного обучения
LOCATION:3 к. 303
END:VEVENT
END:VCALENDAR