BEGIN:VCALENDAR
VERSION:2.0
PRODID:-//spbstu.ru//ical//RU
NAME:Расписание
X-WR-CALNAME:Расписание
TIMEZONE-ID:Europe/Moscow
X-WR-TIMEZONE:Europe/Moscow
BEGIN:VEVENT
UID:lrb7@192.168.245.71:3006
SEQUENCE:0
DTSTAMP:20260421T184050Z
DTSTART:20260325T090000Z
DTEND:20260325T104000Z
SUMMARY:Нейронные сети
LOCATION:3 к. 401
END:VEVENT
BEGIN:VEVENT
UID:fscx@192.168.245.71:3006
SEQUENCE:0
DTSTAMP:20260421T184050Z
DTSTART:20260325T110000Z
DTEND:20260325T124000Z
SUMMARY:Нейронные сети
LOCATION:3 к. 303
END:VEVENT
BEGIN:VEVENT
UID:kdl9@192.168.245.71:3006
SEQUENCE:0
DTSTAMP:20260421T184050Z
DTSTART:20260325T130000Z
DTEND:20260325T144000Z
SUMMARY:Нейронные сети
LOCATION:3 к. 303
END:VEVENT
BEGIN:VEVENT
UID:ddzt@192.168.245.71:3006
SEQUENCE:0
DTSTAMP:20260421T184050Z
DTSTART:20260326T090000Z
DTEND:20260326T104000Z
SUMMARY:Системы искусственного интеллекта
LOCATION:3 к. 401
END:VEVENT
BEGIN:VEVENT
UID:xjc7@192.168.245.71:3006
SEQUENCE:0
DTSTAMP:20260421T184050Z
DTSTART:20260326T110000Z
DTEND:20260326T124000Z
SUMMARY:Нейронные сети
LOCATION:3 к. 401
END:VEVENT
BEGIN:VEVENT
UID:uvcy@192.168.245.71:3006
SEQUENCE:0
DTSTAMP:20260421T184050Z
DTSTART:20260326T130000Z
DTEND:20260326T144000Z
SUMMARY:Нейронные сети
LOCATION:3 к. 303
END:VEVENT
BEGIN:VEVENT
UID:vqbx@192.168.245.71:3006
SEQUENCE:0
DTSTAMP:20260421T184050Z
DTSTART:20260327T110000Z
DTEND:20260327T124000Z
SUMMARY:Нейронные сети
LOCATION:3 к. 506
END:VEVENT
BEGIN:VEVENT
UID:hymn@192.168.245.71:3006
SEQUENCE:0
DTSTAMP:20260421T184050Z
DTSTART:20260327T130000Z
DTEND:20260327T144000Z
SUMMARY:Нейронные сети
LOCATION:3 к. 506
END:VEVENT
BEGIN:VEVENT
UID:87md@192.168.245.71:3006
SEQUENCE:0
DTSTAMP:20260421T184050Z
DTSTART:20260327T150000Z
DTEND:20260327T164000Z
SUMMARY:Методы глубокого машинного обучения
LOCATION:3 к. 201
END:VEVENT
END:VCALENDAR