BEGIN:VCALENDAR
VERSION:2.0
PRODID:-//spbstu.ru//ical//RU
NAME:Расписание
X-WR-CALNAME:Расписание
TIMEZONE-ID:Europe/Moscow
X-WR-TIMEZONE:Europe/Moscow
BEGIN:VEVENT
UID:0yts@192.168.245.71:3006
SEQUENCE:0
DTSTAMP:20260421T093153Z
DTSTART:20260420T070000Z
DTEND:20260420T104000Z
SUMMARY:Теория движения НТТМ
LOCATION:ТВН 303ВШТ
END:VEVENT
BEGIN:VEVENT
UID:26id@192.168.245.71:3006
SEQUENCE:0
DTSTAMP:20260421T093153Z
DTSTART:20260422T070000Z
DTEND:20260422T084000Z
SUMMARY:Теория движения НТТМ
LOCATION:ТВН 304ВШТ
END:VEVENT
BEGIN:VEVENT
UID:xrwm@192.168.245.71:3006
SEQUENCE:0
DTSTAMP:20260421T093153Z
DTSTART:20260423T090000Z
DTEND:20260423T104000Z
SUMMARY:Динамика и прочность машин
LOCATION:ТВН 303ВШТ
END:VEVENT
BEGIN:VEVENT
UID:i1w1@192.168.245.71:3006
SEQUENCE:0
DTSTAMP:20260421T093153Z
DTSTART:20260423T110000Z
DTEND:20260423T124000Z
SUMMARY:Динамика и прочность машин
LOCATION:ТВН 303ВШТ
END:VEVENT
END:VCALENDAR