BEGIN:VCALENDAR
VERSION:2.0
PRODID:-//spbstu.ru//ical//RU
NAME:Расписание
X-WR-CALNAME:Расписание
TIMEZONE-ID:Europe/Moscow
X-WR-TIMEZONE:Europe/Moscow
BEGIN:VEVENT
UID:tay7@192.168.245.71:3006
SEQUENCE:0
DTSTAMP:20260421T101441Z
DTSTART:20260324T090000Z
DTEND:20260324T104000Z
SUMMARY:Теория упругости (на английском языке)
LOCATION:НИК В2.03
END:VEVENT
BEGIN:VEVENT
UID:5kdt@192.168.245.71:3006
SEQUENCE:0
DTSTAMP:20260421T101441Z
DTSTART:20260324T110000Z
DTEND:20260324T115000Z
SUMMARY:Теория упругости (на английском языке)
LOCATION:НИК В2.03
END:VEVENT
BEGIN:VEVENT
UID:9q8b@192.168.245.71:3006
SEQUENCE:0
DTSTAMP:20260421T101441Z
DTSTART:20260326T090000Z
DTEND:20260326T104000Z
SUMMARY:Научно-исследовательский семинар
LOCATION:Мех. к. Н15\, 2 эт.
END:VEVENT
END:VCALENDAR