BEGIN:VCALENDAR
VERSION:2.0
PRODID:-//spbstu.ru//ical//RU
NAME:Расписание
X-WR-CALNAME:Расписание
TIMEZONE-ID:Europe/Moscow
X-WR-TIMEZONE:Europe/Moscow
BEGIN:VEVENT
UID:7rn5@192.168.245.71:3006
SEQUENCE:0
DTSTAMP:20260422T140822Z
DTSTART:20260204T110000Z
DTEND:20260204T124000Z
SUMMARY:Металлические конструкции
LOCATION:ГК-2 513
END:VEVENT
BEGIN:VEVENT
UID:pj10@192.168.245.71:3006
SEQUENCE:0
DTSTAMP:20260422T140822Z
DTSTART:20260206T110000Z
DTEND:20260206T124000Z
SUMMARY:Металлические конструкции
LOCATION:ГК-2 410
END:VEVENT
BEGIN:VEVENT
UID:ua0b@192.168.245.71:3006
SEQUENCE:0
DTSTAMP:20260422T140822Z
DTSTART:20260206T130000Z
DTEND:20260206T144000Z
SUMMARY:Металлические конструкции
LOCATION:ГК-2 410
END:VEVENT
END:VCALENDAR