BEGIN:VCALENDAR
VERSION:2.0
PRODID:-//spbstu.ru//ical//RU
NAME:Расписание
X-WR-CALNAME:Расписание
TIMEZONE-ID:Europe/Moscow
X-WR-TIMEZONE:Europe/Moscow
BEGIN:VEVENT
UID:9atu@192.168.245.71:3006
SEQUENCE:0
DTSTAMP:20260422T081339Z
DTSTART:20260225T110000Z
DTEND:20260225T124000Z
SUMMARY:Металлические конструкции
LOCATION:ГК-2 513
END:VEVENT
BEGIN:VEVENT
UID:rtw2@192.168.245.71:3006
SEQUENCE:0
DTSTAMP:20260422T081339Z
DTSTART:20260227T140000Z
DTEND:20260227T152000Z
SUMMARY:Конструкции из дерева и пластмасс
LOCATION:ГК-2 111
END:VEVENT
BEGIN:VEVENT
UID:4hu8@192.168.245.71:3006
SEQUENCE:0
DTSTAMP:20260422T081339Z
DTSTART:20260227T141000Z
DTEND:20260227T150000Z
SUMMARY:Конструкции из дерева и пластмасс
LOCATION:ГК-2 111
END:VEVENT
END:VCALENDAR