BEGIN:VCALENDAR
VERSION:2.0
PRODID:-//spbstu.ru//ical//RU
NAME:Расписание
X-WR-CALNAME:Расписание
TIMEZONE-ID:Europe/Moscow
X-WR-TIMEZONE:Europe/Moscow
BEGIN:VEVENT
UID:peot@192.168.245.71:3006
SEQUENCE:0
DTSTAMP:20260425T153434Z
DTSTART:20251013T110000Z
DTEND:20251013T124000Z
SUMMARY:Высшая математика
LOCATION:11 к. 107
END:VEVENT
BEGIN:VEVENT
UID:jowa@192.168.245.71:3006
SEQUENCE:0
DTSTAMP:20260425T153434Z
DTSTART:20251013T130000Z
DTEND:20251013T144000Z
SUMMARY:Высшая математика
LOCATION:11 к. 107
END:VEVENT
BEGIN:VEVENT
UID:719i@192.168.245.71:3006
SEQUENCE:0
DTSTAMP:20260425T153434Z
DTSTART:20251016T070000Z
DTEND:20251016T084000Z
SUMMARY:Высшая математика
LOCATION:11 к. 326
END:VEVENT
BEGIN:VEVENT
UID:1sa1@192.168.245.71:3006
SEQUENCE:0
DTSTAMP:20260425T153434Z
DTSTART:20251016T090000Z
DTEND:20251016T104000Z
SUMMARY:Высшая математика
LOCATION:11 к. 326
END:VEVENT
BEGIN:VEVENT
UID:8cox@192.168.245.71:3006
SEQUENCE:0
DTSTAMP:20260425T153434Z
DTSTART:20251016T110000Z
DTEND:20251016T124000Z
SUMMARY:Высшая математика
LOCATION:11 к. 326
END:VEVENT
BEGIN:VEVENT
UID:j3jl@192.168.245.71:3006
SEQUENCE:0
DTSTAMP:20260425T153434Z
DTSTART:20251017T110000Z
DTEND:20251017T124000Z
SUMMARY:Высшая математика
LOCATION:11 к. 107
END:VEVENT
BEGIN:VEVENT
UID:xlwj@192.168.245.71:3006
SEQUENCE:0
DTSTAMP:20260425T153434Z
DTSTART:20251017T130000Z
DTEND:20251017T144000Z
SUMMARY:Высшая математика
LOCATION:11 к. 107
END:VEVENT
BEGIN:VEVENT
UID:5cx2@192.168.245.71:3006
SEQUENCE:0
DTSTAMP:20260425T153434Z
DTSTART:20251017T150000Z
DTEND:20251017T164000Z
SUMMARY:Высшая математика
LOCATION:11 к. 107
END:VEVENT
END:VCALENDAR