BEGIN:VCALENDAR
VERSION:2.0
PRODID:-//spbstu.ru//ical//RU
NAME:Расписание
X-WR-CALNAME:Расписание
TIMEZONE-ID:Europe/Moscow
X-WR-TIMEZONE:Europe/Moscow
BEGIN:VEVENT
UID:glok@192.168.245.71:3006
SEQUENCE:0
DTSTAMP:20260424T175020Z
DTSTART:20251215T110000Z
DTEND:20251215T124000Z
SUMMARY:Высшая математика
LOCATION:11 к. 107
END:VEVENT
BEGIN:VEVENT
UID:whcy@192.168.245.71:3006
SEQUENCE:0
DTSTAMP:20260424T175020Z
DTSTART:20251215T130000Z
DTEND:20251215T144000Z
SUMMARY:Высшая математика
LOCATION:11 к. 107
END:VEVENT
BEGIN:VEVENT
UID:jgns@192.168.245.71:3006
SEQUENCE:0
DTSTAMP:20260424T175020Z
DTSTART:20251217T070000Z
DTEND:20251217T084000Z
SUMMARY:Высшая математика
LOCATION:3 к. 103
END:VEVENT
BEGIN:VEVENT
UID:zayf@192.168.245.71:3006
SEQUENCE:0
DTSTAMP:20260424T175020Z
DTSTART:20251217T090000Z
DTEND:20251217T104000Z
SUMMARY:Высшая математика
LOCATION:3 к. 103
END:VEVENT
BEGIN:VEVENT
UID:vpo5@192.168.245.71:3006
SEQUENCE:0
DTSTAMP:20260424T175020Z
DTSTART:20251217T110000Z
DTEND:20251217T124000Z
SUMMARY:Высшая математика
LOCATION:3 к. 103
END:VEVENT
END:VCALENDAR