BEGIN:VCALENDAR
VERSION:2.0
PRODID:-//spbstu.ru//ical//RU
NAME:Расписание
X-WR-CALNAME:Расписание
TIMEZONE-ID:Europe/Moscow
X-WR-TIMEZONE:Europe/Moscow
BEGIN:VEVENT
UID:bdbi@192.168.245.71:3006
SEQUENCE:0
DTSTAMP:20260421T150035Z
DTSTART:20260420T070000Z
DTEND:20260420T084000Z
SUMMARY:Высшая математика
LOCATION:11 к. 326
END:VEVENT
BEGIN:VEVENT
UID:bc8k@192.168.245.71:3006
SEQUENCE:0
DTSTAMP:20260421T150035Z
DTSTART:20260420T090000Z
DTEND:20260420T104000Z
SUMMARY:Высшая математика
LOCATION:11 к. 326
END:VEVENT
BEGIN:VEVENT
UID:uk4h@192.168.245.71:3006
SEQUENCE:0
DTSTAMP:20260421T150035Z
DTSTART:20260420T110000Z
DTEND:20260420T124000Z
SUMMARY:Высшая математика
LOCATION:11 к. 326
END:VEVENT
BEGIN:VEVENT
UID:244c@192.168.245.71:3006
SEQUENCE:0
DTSTAMP:20260421T150035Z
DTSTART:20260420T130000Z
DTEND:20260420T144000Z
SUMMARY:Высшая математика (продвинутый уровень)
LOCATION:11 к. 326
END:VEVENT
BEGIN:VEVENT
UID:fgvx@192.168.245.71:3006
SEQUENCE:0
DTSTAMP:20260421T150035Z
DTSTART:20260420T150000Z
DTEND:20260420T164000Z
SUMMARY:Высшая математика (продвинутый уровень)
LOCATION:11 к. 326
END:VEVENT
BEGIN:VEVENT
UID:p23n@192.168.245.71:3006
SEQUENCE:0
DTSTAMP:20260421T150035Z
DTSTART:20260423T070000Z
DTEND:20260423T084000Z
SUMMARY:Высшая математика
LOCATION:11 к. 326
END:VEVENT
BEGIN:VEVENT
UID:86tw@192.168.245.71:3006
SEQUENCE:0
DTSTAMP:20260421T150035Z
DTSTART:20260423T090000Z
DTEND:20260423T104000Z
SUMMARY:Высшая математика
LOCATION:11 к. 326
END:VEVENT
BEGIN:VEVENT
UID:wei7@192.168.245.71:3006
SEQUENCE:0
DTSTAMP:20260421T150035Z
DTSTART:20260424T110000Z
DTEND:20260424T124000Z
SUMMARY:Высшая математика
LOCATION:11 к. 326
END:VEVENT
END:VCALENDAR